BEGIN:VCALENDAR
PRODID:NingEventWidget-v1
VERSION:2.0
METHOD:PUBLISH
BEGIN:VTIMEZONE
TZID:America/Anguilla
X-LIC-LOCATION:America/Anguilla
BEGIN:STANDARD
TZOFFSETFROM:-0400
TZOFFSETTO:-0400
TZNAME:AST
DTSTART:19700101T000000
END:STANDARD
END:VTIMEZONE
BEGIN:VEVENT
UID:6419615:Event:11130
DTSTAMP:20260420T122534Z
SUMMARY:Sept 11th 2011 - Old Amersham Heritage Day - Free Event
DESCRIPTION:September 11th 2011 is Amersham Heritage Open Day, where o
 ver 2000 people come to the historic town of Amersham to celebrate all
  things vintage. Past events have attract 1000's of classic car enthus
 iasts.\nThe vintage ferrari restoration specialist DK Engineering will
  be there to tell the fascinating history of their The Ferrari 166MM. 
 The Amersham & District Motor Bus Society will be running a free vinta
 ge bus service between Amersham-on-the-Hill and Whielden Street, Old A
 mersham. 1938 Tube train and Sarah Siddons, ex Metropolitan Railway lo
 comotive will be running between Harrow-on-the-Hill to Amersham.\nThis
  popular free event, which this year will include Woodside Morris Men
 , The Doyle Academy of Dancing, classic car display, steam organ, clow
 ns, animal farm, Punch & Judy show, balloon modeling, Victorian games,
  face painting  and a bouncy castle.\nIf you have any questions conta
 ct Cllr Aaron Emmett at aaron.e at amersham-tc.gov.uk\nAaron Emmett\n\
 nFor more information visit https://ukwheelsevents.ning.com/events/sep
 t-11th-2011-old-amersham-heritage-day-free-event-1
DTSTART;TZID=America/Anguilla:20110911T000000
DTEND;TZID=America/Anguilla:20110911T235900
CATEGORIES:celebration, of, all, things, vintage
LOCATION:Old Amersham HP6
WEBSITE:http://www.amersham-tc.gov.uk/Core/Amersham-Town-Council/Pages
 /Heritage_Open_Day_4.aspx
URL:http://www.amersham-tc.gov.uk/Core/Amersham-Town-Council/Pages/Her
 itage_Open_Day_4.aspx
CONTACT:01494 578508
ORGANIZER;CN="Aaron Emmett":https://ukwheelsevents.ning.com/profile/Aa
 ronEmmett
ATTACH;FMTTYPE="image/jpeg":http://storage.ning.com/topology/rest/1.0/
 file/get/120036022?profile=original
ATTENDEE;ROLE=REQ-PARTICIPANT;PARTSTAT=ACCEPTED;RSVP=TRUE;CN="Aaron Em
 mett":https://ukwheelsevents.ning.com/profile/AaronEmmett
END:VEVENT
END:VCALENDAR
