BEGIN:VCALENDAR
PRODID:NingEventWidget-v1
VERSION:2.0
METHOD:PUBLISH
BEGIN:VTIMEZONE
TZID:America/Anguilla
X-LIC-LOCATION:America/Anguilla
BEGIN:STANDARD
TZOFFSETFROM:-0400
TZOFFSETTO:-0400
TZNAME:AST
DTSTART:19700101T000000
END:STANDARD
END:VTIMEZONE
BEGIN:VEVENT
UID:6419615:Event:85323
DTSTAMP:20260425T074506Z
SUMMARY:The 34th Carole Nash Bristol Classic MotorCycle Show
DESCRIPTION:The Bath and West Showground provides the curtain raiser t
 o a season of classic exhibitions. The Bristol Classic Motorcycle Show
  is almost as old as the International though and, despite the name, i
 s held near Shepton Mallet rather than in the Bristol Dockland Warehou
 se where it originated. Naturally given the time of year most of the a
 ction happens inside and well away from any possibility of snow and we
 t. Attendance grows each year, with plenty of room to expand, with clo
 se on 20,000 people descending on the halls last year.\n \nAdvance ti
 ckets: Adult £10, Senior £8, children under 12 £3.\n \nOn the Gate
  tickets: Adult £12, Senior £10, children under 12 £4.\n \nGates a
 re open both days 10am – 5pm.\n \nTel. 01507 529430\n \nEmail. exh
 ibitions@mortons.co.uk\n \nWeb. www.classicbikeshows.com\n \nFaceboo
 k. www.facebook.com/classicbikeshows\n\nFor more information visit htt
 ps://ukwheelsevents.ning.com/events/the-34th-carole-nash-bristol-class
 ic-motorcycle-show
DTSTART;TZID=America/Anguilla:20140208T100000
DTEND;TZID=America/Anguilla:20140209T170000
CATEGORIES:motorcycle, show
LOCATION:Bath & West Showground, BA4 6QN
WEBSITE:http://www.classicbikeshows.com/
URL:http://www.classicbikeshows.com/
CONTACT:01507 529430
ORGANIZER;CN=ClassicBikeShows:https://ukwheelsevents.ning.com/profile/
 ClassicBikeShows
ATTACH;FMTTYPE="image/jpeg":http://storage.ning.com/topology/rest/1.0/
 file/get/120041603?profile=original
ATTENDEE;ROLE=REQ-PARTICIPANT;PARTSTAT=ACCEPTED;RSVP=TRUE;CN=ClassicBi
 keShows:https://ukwheelsevents.ning.com/profile/ClassicBikeShows
END:VEVENT
END:VCALENDAR
