BEGIN:VCALENDAR
PRODID:NingEventWidget-v1
VERSION:2.0
METHOD:PUBLISH
BEGIN:VTIMEZONE
TZID:America/Anguilla
X-LIC-LOCATION:America/Anguilla
BEGIN:STANDARD
TZOFFSETFROM:-0400
TZOFFSETTO:-0400
TZNAME:AST
DTSTART:19700101T000000
END:STANDARD
END:VTIMEZONE
BEGIN:VEVENT
UID:6419615:Event:84524
DTSTAMP:20260425T230031Z
SUMMARY:The Carole Nash Classic Bike Guide Winter Classic
DESCRIPTION:Guest of Honour: Roger Marshall.\nÂ \nWe are pleased to an
 nounce the return of the event that kick starts the New Year for class
 ic bike enthusiasts. Hundreds of beautiful classic and custom bikes to
  admire with a healthy mix of trade stalls, dealers and autojumble plo
 ts too â€“ the perfect place to grab some inspiration and a boxful of 
 parts to get your project finished in plenty of time for summer. Broug
 ht to you by the organisers that brought you superb shows in Stafford 
 and Bristol, The Carole Nash Classic Bike Guide Winter Classic Show is
  one place you'll certainly get a warm reception and enjoy a warm glow
  in the post-Christmas period, as it will be held almost entirely indo
 ors at the Newark Showground.\nÂ \nAdvance tickets: adult/senior - Â£7
 , children under 12 - FREE.\nÂ \nOn the Gate tickets: adult/senior - Â
 £9, children under 12 â€“ FREE.\nÂ \nGates are open Saturday, January 
 4 (9am-5pm) and Sunday, January 5 (9am-4pm).\nÂ \nNewark Showground, N
 ewark, NG24 2NY\n\nFor more information visit https://ukwheelsevents.n
 ing.com/events/the-carole-nash-classic-bike-guide-winter-classic-1
DTSTART;TZID=America/Anguilla:20140104T090000
DTEND;TZID=America/Anguilla:20140105T160000
CATEGORIES:show, autojumble, trade
LOCATION:Newark Showground
WEBSITE:http://www.classicbikeshows.com
URL:http://www.classicbikeshows.com
CONTACT:01507529430
ORGANIZER;CN=ClassicBikeShows:https://ukwheelsevents.ning.com/profile/
 ClassicBikeShows
ATTACH;FMTTYPE="image/jpeg":http://storage.ning.com/topology/rest/1.0/
 file/get/120041664?profile=original
ATTENDEE;ROLE=REQ-PARTICIPANT;PARTSTAT=ACCEPTED;RSVP=TRUE;CN=ClassicBi
 keShows:https://ukwheelsevents.ning.com/profile/ClassicBikeShows
END:VEVENT
END:VCALENDAR
