BEGIN:VCALENDAR
PRODID:NingEventWidget-v1
VERSION:2.0
METHOD:PUBLISH
BEGIN:VTIMEZONE
TZID:America/Anguilla
X-LIC-LOCATION:America/Anguilla
BEGIN:STANDARD
TZOFFSETFROM:-0400
TZOFFSETTO:-0400
TZNAME:AST
DTSTART:19700101T000000
END:STANDARD
END:VTIMEZONE
BEGIN:VEVENT
UID:6419615:Event:113529
DTSTAMP:20260421T030300Z
SUMMARY:The Carole Nash Classic Bike Guide Winter classic
DESCRIPTION:A kick-start to the new classic motorcycling year, the Car
 ole Nash Classic Bike Guide Winter Classic takes place in early Januar
 y at Newark Showground. It offers a welcome respite from the hectic ho
 liday season and a chance to get lost in exploring the hundreds of stu
 nning classics on display. With a good mix of traders, dealers and aut
 ojumble plots, it’s the perfect place to grab a box of parts and spa
 res and get inspired to finish your restoration project for a summer o
 f riding.\n\n\nFor more information visit https://ukwheelsevents.ning.
 com/events/the-carole-nash-classic-bike-guide-winter-classic-3
DTSTART;TZID=America/Anguilla:20160109T090000
DTEND;TZID=America/Anguilla:20160110T170000
CATEGORIES:show
LOCATION:Newark Showground, NG24 2NY
WEBSITE:http://www.classicbikeshows.com
URL:http://www.classicbikeshows.com
CONTACT:01507 529529
ORGANIZER:Mortons Media Group Ltd
ATTACH;FMTTYPE="image/jpeg":
ATTENDEE;ROLE=REQ-PARTICIPANT;PARTSTAT=ACCEPTED;RSVP=TRUE;CN=ClassicBi
 keShows:https://ukwheelsevents.ning.com/profile/ClassicBikeShows
END:VEVENT
END:VCALENDAR
